BEGIN:VCALENDAR
VERSION:2.0
PRODID:-//Le Tempo 17 - ECPv5.9.0//NONSGML v1.0//EN
CALSCALE:GREGORIAN
METHOD:PUBLISH
X-WR-CALNAME:Le Tempo 17
X-ORIGINAL-URL:https://letempo17.com
X-WR-CALDESC:évènements pour Le Tempo 17
BEGIN:VTIMEZONE
TZID:Europe/Paris
BEGIN:DAYLIGHT
TZOFFSETFROM:+0100
TZOFFSETTO:+0200
TZNAME:CEST
DTSTART:20250330T010000
END:DAYLIGHT
BEGIN:STANDARD
TZOFFSETFROM:+0200
TZOFFSETTO:+0100
TZNAME:CET
DTSTART:20251026T010000
END:STANDARD
END:VTIMEZONE
BEGIN:VEVENT
DTSTART;TZID=Europe/Paris:20250522T200000
DTEND;TZID=Europe/Paris:20250522T200000
DTSTAMP:20260426T021708
CREATED:20250501T190939Z
LAST-MODIFIED:20250501T190939Z
UID:1389-1747944000-1747944000@letempo17.com
SUMMARY:Tempo Comedy Show
DESCRIPTION:
URL:https://letempo17.com/event/tempo-comedy-show-3/
LOCATION:le tempo 17\, 18 rue brochant\, paris\, 75017\, France
CATEGORIES:Spectacle
ATTACH;FMTTYPE=application/pdf:https://letempo17.com/wp-content/uploads/2025/05/LogoTempoComedy40x40-FondNoir.pdf
END:VEVENT
END:VCALENDAR