BEGIN:VCALENDAR
VERSION:2.0
PRODID:-//Le Tempo 17 - ECPv5.9.0//NONSGML v1.0//EN
CALSCALE:GREGORIAN
METHOD:PUBLISH
X-WR-CALNAME:Le Tempo 17
X-ORIGINAL-URL:https://letempo17.com
X-WR-CALDESC:évènements pour Le Tempo 17
BEGIN:VTIMEZONE
TZID:Europe/Paris
BEGIN:DAYLIGHT
TZOFFSETFROM:+0100
TZOFFSETTO:+0200
TZNAME:CEST
DTSTART:20170326T010000
END:DAYLIGHT
BEGIN:STANDARD
TZOFFSETFROM:+0200
TZOFFSETTO:+0100
TZNAME:CET
DTSTART:20171029T010000
END:STANDARD
END:VTIMEZONE
BEGIN:VEVENT
DTSTART;TZID=Europe/Paris:20171031T203000
DTEND;TZID=Europe/Paris:20171031T230000
DTSTAMP:20260426T055402
CREATED:20171028T224208Z
LAST-MODIFIED:20171028T225036Z
UID:475-1509481800-1509490800@letempo17.com
SUMMARY:PSG vs anderlecht
DESCRIPTION:Soirée foot au tempo\, le PSG pourrait se frotter les mains et en profiter pour continuer son incroyable série en Ligue des Champions. \nPensez a réserver vos places!!!
URL:https://letempo17.com/event/psg-vs-anderlecht/
CATEGORIES:Match foot
END:VEVENT
END:VCALENDAR