BEGIN:VCALENDAR
VERSION:2.0
PRODID:-//Le Tempo 17 - ECPv5.9.0//NONSGML v1.0//EN
CALSCALE:GREGORIAN
METHOD:PUBLISH
X-WR-CALNAME:Le Tempo 17
X-ORIGINAL-URL:https://letempo17.com
X-WR-CALDESC:évènements pour Le Tempo 17
BEGIN:VTIMEZONE
TZID:Europe/Paris
BEGIN:DAYLIGHT
TZOFFSETFROM:+0100
TZOFFSETTO:+0200
TZNAME:CEST
DTSTART:20190331T010000
END:DAYLIGHT
BEGIN:STANDARD
TZOFFSETFROM:+0200
TZOFFSETTO:+0100
TZNAME:CET
DTSTART:20191027T010000
END:STANDARD
END:VTIMEZONE
BEGIN:VEVENT
DTSTART;TZID=Europe/Paris:20190918T210000
DTEND;TZID=Europe/Paris:20190918T230000
DTSTAMP:20260426T041000
CREATED:20190905T163435Z
LAST-MODIFIED:20190916T185358Z
UID:716-1568840400-1568847600@letempo17.com
SUMMARY:Paris Saint Germain vs Real de Madrid
DESCRIPTION:Et c’est reparti pour une saison au Tempo 17 … \nNous sommes heureux de vous retrouver avec notre écran géant\, nos assiettes\, nos bieres et bien sur le Paris Saint Germain pensez a réserver vos places… merci. \nBon Match !!!
URL:https://letempo17.com/event/paris-saint-germain-vs-real-de-madrid/
LOCATION:Le Tempo\, 18 rue Brochant\, Paris\, 75017\, France
CATEGORIES:Match foot
ATTACH;FMTTYPE=image/jpeg:https://letempo17.com/wp-content/uploads/2019/09/PSG-Real-Madrid.jpg
END:VEVENT
END:VCALENDAR