BEGIN:VCALENDAR
VERSION:2.0
PRODID:-//Le Tempo 17 - ECPv5.9.0//NONSGML v1.0//EN
CALSCALE:GREGORIAN
METHOD:PUBLISH
X-WR-CALNAME:Le Tempo 17
X-ORIGINAL-URL:https://letempo17.com
X-WR-CALDESC:évènements pour Le Tempo 17
BEGIN:VTIMEZONE
TZID:Europe/Paris
BEGIN:DAYLIGHT
TZOFFSETFROM:+0100
TZOFFSETTO:+0200
TZNAME:CEST
DTSTART:20190331T010000
END:DAYLIGHT
BEGIN:STANDARD
TZOFFSETFROM:+0200
TZOFFSETTO:+0100
TZNAME:CET
DTSTART:20191027T010000
END:STANDARD
END:VTIMEZONE
BEGIN:VEVENT
DTSTART;TZID=Europe/Paris:20190306T210000
DTEND;TZID=Europe/Paris:20190306T210000
DTSTAMP:20260426T041000
CREATED:20190215T182156Z
LAST-MODIFIED:20190215T184234Z
UID:662-1551906000-1551906000@letempo17.com
SUMMARY:Paris Saint Germain vs manchester united
DESCRIPTION:Grosse ambiance au Tempo 17 pour le match aller\, nous ferons surement mieux au match retour a domicile… \nAvec nos Hot-Dog\, Assiette de charcuterie ou fromage et bien-sur la mixte\, nos pintes et bières Bouteilles la fête sera de mise … \nBon match et Paris est magique …
URL:https://letempo17.com/event/paris-saint-germain-vs-manchester-united/
LOCATION:Le Tempo\, 18 rue Brochant\, Paris\, 75017\, France
CATEGORIES:Match foot
END:VEVENT
END:VCALENDAR