BEGIN:VCALENDAR
VERSION:2.0
PRODID:-//Le Tempo 17 - ECPv5.9.0//NONSGML v1.0//EN
CALSCALE:GREGORIAN
METHOD:PUBLISH
X-WR-CALNAME:Le Tempo 17
X-ORIGINAL-URL:https://letempo17.com
X-WR-CALDESC:évènements pour Le Tempo 17
BEGIN:VTIMEZONE
TZID:Europe/Paris
BEGIN:DAYLIGHT
TZOFFSETFROM:+0100
TZOFFSETTO:+0200
TZNAME:CEST
DTSTART:20250330T010000
END:DAYLIGHT
BEGIN:STANDARD
TZOFFSETFROM:+0200
TZOFFSETTO:+0100
TZNAME:CET
DTSTART:20251026T010000
END:STANDARD
END:VTIMEZONE
BEGIN:VEVENT
DTSTART;TZID=Europe/Paris:20250122T210000
DTEND;TZID=Europe/Paris:20250122T230000
DTSTAMP:20260426T032122
CREATED:20250118T214255Z
LAST-MODIFIED:20250118T214255Z
UID:1329-1737579600-1737586800@letempo17.com
SUMMARY:Paris Saint Germain vs Manchester City
DESCRIPTION:Venez vivre l’excitation du football au bar Le Tempo 17 ! Le 5 mars 2024\, assistez au match Paris Saint Germain vs Manchester City sur notre écran géant. Les deux équipes s’affronteront dans une bataille épique pour la victoire. \nRejoignez-nous au bar Le Tempo 17 et ne manquez pas cette occasion de partager votre passion avec d’autres supporters. Rendez-vous le 22 Janvier 2025 au bar Le Tempo 17 pour une soirée mémorable de football intense et de camaraderie. \nPensez a réserver vos places au 0682435057
URL:https://letempo17.com/event/paris-saint-germain-vs-manchester-city/
LOCATION:le tempo 17\, 18 rue brochant\, paris\, 75017\, France
CATEGORIES:Match foot,sport
ATTACH;FMTTYPE=image/jpeg:https://letempo17.com/wp-content/uploads/2025/01/psg-man-city.jpg
ORGANIZER;CN="Le%20Tempo%2017":MAILTO:letempo17@gmail.com
END:VEVENT
END:VCALENDAR