BEGIN:VCALENDAR
VERSION:2.0
PRODID:-//Le Tempo 17 - ECPv5.9.0//NONSGML v1.0//EN
CALSCALE:GREGORIAN
METHOD:PUBLISH
X-WR-CALNAME:Le Tempo 17
X-ORIGINAL-URL:https://letempo17.com
X-WR-CALDESC:évènements pour Le Tempo 17
BEGIN:VTIMEZONE
TZID:Europe/Paris
BEGIN:DAYLIGHT
TZOFFSETFROM:+0100
TZOFFSETTO:+0200
TZNAME:CEST
DTSTART:20230326T010000
END:DAYLIGHT
BEGIN:STANDARD
TZOFFSETFROM:+0200
TZOFFSETTO:+0100
TZNAME:CET
DTSTART:20231029T010000
END:STANDARD
END:VTIMEZONE
BEGIN:VEVENT
DTSTART;TZID=Europe/Paris:20230919T210000
DTEND;TZID=Europe/Paris:20230919T230000
DTSTAMP:20260426T040839
CREATED:20230911T222801Z
LAST-MODIFIED:20230911T222801Z
UID:1176-1695157200-1695164400@letempo17.com
SUMMARY:Paris Saint Germain vs Dortmund
DESCRIPTION:Plongez dans l’excitation de la Ligue des champions avec la soirée PSG contre Dortmund au Bar Le Tempo 17 ! Rejoignez-nous pour une expérience de visionnage inégalée\, alors que ces deux géants du football s’affrontent sur notre écran géant. Vibrez au rythme des buts et des arrêts spectaculaires tout en sirotant vos boissons préférées et en profitant de l’ambiance passionnée de notre bar. Avec des fans passionnés comme vous\, cette soirée promet d’être mémorable. Ne manquez pas l’occasion de vivre chaque moment de cette rencontre palpitante au Bar Le Tempo 17. Venez soutenir le PSG et partager l’excitation du football européen avec nous !
URL:https://letempo17.com/event/paris-saint-germain-vs-dortmund-2/
LOCATION:le tempo 17\, 18 rue brochant\, paris\, 75017\, France
CATEGORIES:Match foot
ATTACH;FMTTYPE=image/png:https://letempo17.com/wp-content/uploads/2023/09/image.png
END:VEVENT
END:VCALENDAR