BEGIN:VCALENDAR
VERSION:2.0
PRODID:-//Le Tempo 17 - ECPv5.9.0//NONSGML v1.0//EN
CALSCALE:GREGORIAN
METHOD:PUBLISH
X-WR-CALNAME:Le Tempo 17
X-ORIGINAL-URL:https://letempo17.com
X-WR-CALDESC:évènements pour Le Tempo 17
BEGIN:VTIMEZONE
TZID:Europe/Paris
BEGIN:DAYLIGHT
TZOFFSETFROM:+0100
TZOFFSETTO:+0200
TZNAME:CEST
DTSTART:20190331T010000
END:DAYLIGHT
BEGIN:STANDARD
TZOFFSETFROM:+0200
TZOFFSETTO:+0100
TZNAME:CET
DTSTART:20191027T010000
END:STANDARD
END:VTIMEZONE
BEGIN:VEVENT
DTSTART;TZID=Europe/Paris:20191123T203000
DTEND;TZID=Europe/Paris:20191123T230000
DTSTAMP:20260426T005420
CREATED:20191114T171013Z
LAST-MODIFIED:20191114T171013Z
UID:787-1574541000-1574550000@letempo17.com
SUMMARY:"Mon pote Serge" au tempo 17
DESCRIPTION:Mon Pote Serge en concert samedi 23 novembre 20h\nAu Tempo 18 Rue Brochant 75017 Paris\nJe chante mes chansons rock et en français ! \nLes musiciens : Adrien\, Maxime\, Greg\, Sacha et Léo.\nViens nombreux\, entrée gratis ! \n \n Serge Maestracci Artiste Contemporain Nostalgique 06 81 89 93 42 – www.leweb.fr – serge@leweb.fr
URL:https://letempo17.com/event/mon-pote-serge-au-tempo-17/
LOCATION:Le Tempo\, 18 rue Brochant\, Paris\, 75017\, France
CATEGORIES:Concert
ATTACH;FMTTYPE=image/jpeg:https://letempo17.com/wp-content/uploads/2019/11/MPS-concert.jpeg
END:VEVENT
END:VCALENDAR