BEGIN:VCALENDAR
VERSION:2.0
PRODID:-//Le Tempo 17 - ECPv5.9.0//NONSGML v1.0//EN
CALSCALE:GREGORIAN
METHOD:PUBLISH
X-WR-CALNAME:Le Tempo 17
X-ORIGINAL-URL:https://letempo17.com
X-WR-CALDESC:évènements pour Le Tempo 17
BEGIN:VTIMEZONE
TZID:Europe/Paris
BEGIN:DAYLIGHT
TZOFFSETFROM:+0100
TZOFFSETTO:+0200
TZNAME:CEST
DTSTART:20190331T010000
END:DAYLIGHT
BEGIN:STANDARD
TZOFFSETFROM:+0200
TZOFFSETTO:+0100
TZNAME:CET
DTSTART:20191027T010000
END:STANDARD
END:VTIMEZONE
BEGIN:VEVENT
DTSTART;TZID=Europe/Paris:20191011T203000
DTEND;TZID=Europe/Paris:20191011T223000
DTSTAMP:20260426T042418
CREATED:20190928T144453Z
LAST-MODIFIED:20190928T144453Z
UID:741-1570825800-1570833000@letempo17.com
SUMMARY:Les Zapérikub’s en Concert
DESCRIPTION: Les Zapérikub’s : un cocktail de tubes rock\, folk\, blues\, jazz\, salsa\, variétés…
URL:https://letempo17.com/event/les-zaperikubs-en-concert/
LOCATION:Le Tempo\, 18 rue Brochant\, Paris\, 75017\, France
CATEGORIES:Concert
ATTACH;FMTTYPE=image/jpeg:https://letempo17.com/wp-content/uploads/2019/09/Affiche-11-octobre.jpg
END:VEVENT
END:VCALENDAR