BEGIN:VCALENDAR
VERSION:2.0
PRODID:-//Le Tempo 17 - ECPv5.9.0//NONSGML v1.0//EN
CALSCALE:GREGORIAN
METHOD:PUBLISH
X-WR-CALNAME:Le Tempo 17
X-ORIGINAL-URL:https://letempo17.com
X-WR-CALDESC:évènements pour Le Tempo 17
BEGIN:VTIMEZONE
TZID:Europe/Paris
BEGIN:DAYLIGHT
TZOFFSETFROM:+0100
TZOFFSETTO:+0200
TZNAME:CEST
DTSTART:20230326T010000
END:DAYLIGHT
BEGIN:STANDARD
TZOFFSETFROM:+0200
TZOFFSETTO:+0100
TZNAME:CET
DTSTART:20231029T010000
END:STANDARD
END:VTIMEZONE
BEGIN:VEVENT
DTSTART;TZID=Europe/Paris:20230201T190000
DTEND;TZID=Europe/Paris:20230201T200000
DTSTAMP:20260426T015404
CREATED:20230131T190950Z
LAST-MODIFIED:20230131T190950Z
UID:1125-1675278000-1675281600@letempo17.com
SUMMARY:Giggle Comedy Show
DESCRIPTION:
URL:https://letempo17.com/event/giggle-comedy-show/
LOCATION:le tempo 17\, 18 rue brochant\, paris\, 75017\, France
CATEGORIES:Spectacle
ATTACH;FMTTYPE=image/jpeg:https://letempo17.com/wp-content/uploads/2023/01/IMG_1511.jpg
ORGANIZER;CN="Le%20Tempo%2017":MAILTO:letempo17@gmail.com
END:VEVENT
END:VCALENDAR