BEGIN:VCALENDAR
VERSION:2.0
PRODID:-//Le Tempo 17 - ECPv5.9.0//NONSGML v1.0//EN
CALSCALE:GREGORIAN
METHOD:PUBLISH
X-WR-CALNAME:Le Tempo 17
X-ORIGINAL-URL:https://letempo17.com
X-WR-CALDESC:évènements pour Le Tempo 17
BEGIN:VTIMEZONE
TZID:Europe/Paris
BEGIN:DAYLIGHT
TZOFFSETFROM:+0100
TZOFFSETTO:+0200
TZNAME:CEST
DTSTART:20200329T010000
END:DAYLIGHT
BEGIN:STANDARD
TZOFFSETFROM:+0200
TZOFFSETTO:+0100
TZNAME:CET
DTSTART:20201025T010000
END:STANDARD
END:VTIMEZONE
BEGIN:VEVENT
DTSTART;TZID=Europe/Paris:20200218T210000
DTEND;TZID=Europe/Paris:20200218T230000
DTSTAMP:20260426T040726
CREATED:20200214T000303Z
LAST-MODIFIED:20200214T000303Z
UID:827-1582059600-1582066800@letempo17.com
SUMMARY:Dortmund VS Paris Saint Germain
DESCRIPTION:Reprise de la CHAMPIONS LEAGUE au TEMPO 17\nVenez soutenir le PSG pour les 1/8 de finale aller\, un gros match en perspective avec toujours une grosse ambiance!!!\nLe Tempo vous accueille avec ses planches\, Hot-Dog\, et bien sur ses bières!!!\nPensez à réserver vos places pour le voir sur écran géant !!!
URL:https://letempo17.com/event/dortmund-vs-paris-saint-germain/
LOCATION:Le Tempo\, 18 rue Brochant\, Paris\, 75017\, France
CATEGORIES:Match foot
ATTACH;FMTTYPE=image/jpeg:https://letempo17.com/wp-content/uploads/2020/02/maxresdefault.jpg
END:VEVENT
END:VCALENDAR