BEGIN:VCALENDAR
VERSION:2.0
PRODID:-//Le Tempo 17 - ECPv5.9.0//NONSGML v1.0//EN
CALSCALE:GREGORIAN
METHOD:PUBLISH
X-WR-CALNAME:Le Tempo 17
X-ORIGINAL-URL:https://letempo17.com
X-WR-CALDESC:évènements pour Le Tempo 17
BEGIN:VTIMEZONE
TZID:Europe/Paris
BEGIN:DAYLIGHT
TZOFFSETFROM:+0100
TZOFFSETTO:+0200
TZNAME:CEST
DTSTART:20230326T010000
END:DAYLIGHT
BEGIN:STANDARD
TZOFFSETFROM:+0200
TZOFFSETTO:+0100
TZNAME:CET
DTSTART:20231029T010000
END:STANDARD
END:VTIMEZONE
BEGIN:VEVENT
DTSTART;TZID=Europe/Paris:20231213T210000
DTEND;TZID=Europe/Paris:20231213T230000
DTSTAMP:20260426T045906
CREATED:20231108T213117Z
LAST-MODIFIED:20231108T213117Z
UID:1211-1702501200-1702508400@letempo17.com
SUMMARY:Dortmund vs Paris Saint Germain
DESCRIPTION:
URL:https://letempo17.com/event/dortmund-vs-paris-saint-germain-2/
LOCATION:le tempo 17\, 18 rue brochant\, paris\, 75017\, France
CATEGORIES:Match foot
ATTACH;FMTTYPE=image/jpeg:https://letempo17.com/wp-content/uploads/2023/11/maxresdefault-2.jpg
END:VEVENT
END:VCALENDAR