BEGIN:VCALENDAR
VERSION:2.0
PRODID:-//Le Tempo 17 - ECPv5.9.0//NONSGML v1.0//EN
CALSCALE:GREGORIAN
METHOD:PUBLISH
X-WR-CALNAME:Le Tempo 17
X-ORIGINAL-URL:https://letempo17.com
X-WR-CALDESC:évènements pour Le Tempo 17
BEGIN:VTIMEZONE
TZID:Europe/Paris
BEGIN:DAYLIGHT
TZOFFSETFROM:+0100
TZOFFSETTO:+0200
TZNAME:CEST
DTSTART:20180325T010000
END:DAYLIGHT
BEGIN:STANDARD
TZOFFSETFROM:+0200
TZOFFSETTO:+0100
TZNAME:CET
DTSTART:20181028T010000
END:STANDARD
END:VTIMEZONE
BEGIN:VEVENT
DTSTART;TZID=Europe/Paris:20180626T160000
DTEND;TZID=Europe/Paris:20180626T180000
DTSTAMP:20260426T023615
CREATED:20180625T170555Z
LAST-MODIFIED:20180625T170555Z
UID:560-1530028800-1530036000@letempo17.com
SUMMARY:Danemark vs France
DESCRIPTION:Après avoir validé sa qualification\, l’équipe de France affronte ce mardi 26 juin le Danemark\, qui jouera sa qualification. Il suffira aux Bleus de ne pas perdre pour assurer la première place du groupe C. Le match sera à suivre en direct à 16h00 au tempo 17
URL:https://letempo17.com/event/danemark-vs-france/
LOCATION:Le Tempo\, 18 rue Brochant\, Paris\, 75017\, France
CATEGORIES:Match foot,sport
END:VEVENT
END:VCALENDAR