BEGIN:VCALENDAR
VERSION:2.0
PRODID:-//Le Tempo 17 - ECPv5.9.0//NONSGML v1.0//EN
CALSCALE:GREGORIAN
METHOD:PUBLISH
X-WR-CALNAME:Le Tempo 17
X-ORIGINAL-URL:https://letempo17.com
X-WR-CALDESC:évènements pour Le Tempo 17
BEGIN:VTIMEZONE
TZID:Europe/Paris
BEGIN:DAYLIGHT
TZOFFSETFROM:+0100
TZOFFSETTO:+0200
TZNAME:CEST
DTSTART:20260329T010000
END:DAYLIGHT
BEGIN:STANDARD
TZOFFSETFROM:+0200
TZOFFSETTO:+0100
TZNAME:CET
DTSTART:20261025T010000
END:STANDARD
END:VTIMEZONE
BEGIN:VEVENT
DTSTART;TZID=Europe/Paris:20260225T210000
DTEND;TZID=Europe/Paris:20260225T230000
DTSTAMP:20260426T013447
CREATED:20260221T180209Z
LAST-MODIFIED:20260221T180209Z
UID:1562-1772053200-1772060400@letempo17.com
SUMMARY:Paris Saint Germain vs Monaco
DESCRIPTION:⚽️🔥 Viens vivre le match PSG — Monaco au Bar Tempo ! 🔥⚽️ \n📅 Date & heure : 21h \n📍 Lieu : Bar Le Tempo 17 au 18 rue Brochant\, Paris 17e \n📺 Projection sur grand écran • Ambiance conviviale et chaleureuse \nRejoins-nous pour une soirée foot mémorable  bonne humeur garantis ! On te propose :\n– 🧀 Planches de charcuterie et fromages maison \n– 🌭 Hot-dogs gourmands \n– 🍺 Bières\, cocktails et boissons fraîches  \nAtmosphère idéale entre amis\, en famille ou entre collègues — parfait pour vibrer ensemble à chaque action. Pense à réserver ta table si tu veux être sûr d’avoir une place ! 0682852759
URL:https://letempo17.com/event/paris-saint-germain-vs-monaco/
LOCATION:le tempo 17\, 18 rue brochant\, paris\, 75017\, France
CATEGORIES:Match foot,sport
ATTACH;FMTTYPE=image/avif:https://letempo17.com/wp-content/uploads/2026/02/MjAyMzExMDc1YzdlNzhmMzYyNjFjYjc2MjRkMzRkNGFlOTJkZTE.avif
END:VEVENT
END:VCALENDAR