BEGIN:VCALENDAR
VERSION:2.0
PRODID:-//Le Tempo 17 - ECPv5.9.0//NONSGML v1.0//EN
CALSCALE:GREGORIAN
METHOD:PUBLISH
X-WR-CALNAME:Le Tempo 17
X-ORIGINAL-URL:https://letempo17.com
X-WR-CALDESC:évènements pour Le Tempo 17
BEGIN:VTIMEZONE
TZID:Europe/Paris
BEGIN:DAYLIGHT
TZOFFSETFROM:+0100
TZOFFSETTO:+0200
TZNAME:CEST
DTSTART:20240331T010000
END:DAYLIGHT
BEGIN:STANDARD
TZOFFSETFROM:+0200
TZOFFSETTO:+0100
TZNAME:CET
DTSTART:20241027T010000
END:STANDARD
END:VTIMEZONE
BEGIN:VEVENT
DTSTART;TZID=Europe/Paris:20240215T203000
DTEND;TZID=Europe/Paris:20240215T233000
DTSTAMP:20260426T040442
CREATED:20240203T170303Z
LAST-MODIFIED:20240203T170303Z
UID:1239-1708029000-1708039800@letempo17.com
SUMMARY:Blind Test by Workanim
DESCRIPTION:Le Tempo 17 vous invite à une soirée Blind Test Karaoké endiablée le 15 février 2024 ! \nAnimée par Yohan de Workanim\, cette soirée promet de vous faire chanter et danser toute la soirée ! \nAu programme : \n\nDes chansons cultes de toutes les époques et de tous les styles\nUn blind test endiablé pour tester vos connaissances musicales\nUn karaoké géant pour chanter à tue-tête vos chansons préférées\nUne ambiance festive et conviviale pour passer une soirée inoubliable\n\nAlors\, que vous soyez un chanteur confirmé ou un amateur de karaoké\, venez vous amuser et vibrer au Tempo 17 ! \nN’oubliez pas de venir avec vos amis pour une soirée encore plus fun ! \n#blindtest #karaoke #soirée #letempo17 #workanim #batignolles#paris #fevrier2024 \nSuivez-nous sur les réseaux sociaux pour ne rien manquer de nos actualités ! \nInstagram : @le_tempo_17 \n                      @yoann_workanim \nA bientôt !
URL:https://letempo17.com/event/blind-test-by-workanim/
LOCATION:le tempo 17\, 18 rue brochant\, paris\, 75017\, France
CATEGORIES:Spectacle
ATTACH;FMTTYPE=image/jpeg:https://letempo17.com/wp-content/uploads/2024/02/IMG_5132-scaled.jpeg
END:VEVENT
END:VCALENDAR