BEGIN:VCALENDAR
VERSION:2.0
PRODID:-//Le Tempo 17 - ECPv5.9.0//NONSGML v1.0//EN
CALSCALE:GREGORIAN
METHOD:PUBLISH
X-WR-CALNAME:Le Tempo 17
X-ORIGINAL-URL:https://letempo17.com
X-WR-CALDESC:évènements pour Le Tempo 17
BEGIN:VTIMEZONE
TZID:Europe/Paris
BEGIN:DAYLIGHT
TZOFFSETFROM:+0100
TZOFFSETTO:+0200
TZNAME:CEST
DTSTART:20250330T010000
END:DAYLIGHT
BEGIN:STANDARD
TZOFFSETFROM:+0200
TZOFFSETTO:+0100
TZNAME:CET
DTSTART:20251026T010000
END:STANDARD
END:VTIMEZONE
BEGIN:VEVENT
DTSTART;TZID=Europe/Paris:20250909T200000
DTEND;TZID=Europe/Paris:20250909T230000
DTSTAMP:20260426T024113
CREATED:20250903T191717Z
LAST-MODIFIED:20250903T191717Z
UID:1490-1757448000-1757458800@letempo17.com
SUMMARY:Acpoustic Bazar de Sylvestre PLANCHAIS
DESCRIPTION:Le Tempo reçoit chaque mois une institution de la guitare parisienne : la scène ouverte ACOUSTIC BAZAR\, la plus ancienne de la capitale\, ouverte aux guitaristes et chanteur(euse)s-guitaristes. Outre le set de 30 minutes de « l’invité du mois » – qui peut être une pointure de l’instrument (on a pu y croiser Jean-Félix Lalanne\, Solo Razaf\, Abaji\, Manu Galvin\, Michel Haumont\, Jimi Drouillard …..) mais aussi un jeune guitariste prometteur ou une formation  guitaristiquement intéressante – la soirée se déroule sous la forme d’une scène tournante ou chacun a la possibilité de jouer 2 titres\, tous styles confondus. \n  \nCes rendez-vous sont donc également un espace de rencontres musicales et de découvertes\, où se côtoient des amateurs souvent très expérimentés\, des professionnels désirant rôder quelques titres avant un concert important\, des auteurs compositeurs… ou parfois un candidat ayant le courage de tenter sa première scène. \n  \nPour soirée de rentrée ACOUSTIC BAZAR sera heureuse de donner la parole au groove jazzy de  \nSylvestre PLANCHAIS \n\nIssu du jazz\, influencé par le blues et le funk\, Sylvestre Planchais s’est singularisé en développant à la perfection la technique dite « dactyle » ou du tapping piano\, axée sur le jeu simultané des deux mains sur le manche avec indépendance rythmique\, qui rappelle le piano stride : la main gauche fait la « pompe » et la main droite expose la mélodie \nLes harmonies du jazz sont donc la base de son répertoire : réharmonisation des chansons des Beatles\, de Police\, des standards de jazz ou de la musique irlandaise\, compositions au groove funky et latin\, feeling blues\, hommages à ses grandes influences (Wes Montgomery\,  Charlie Christian\, Bill Evans…)\, qui sont pratiqués en quartet\, solo\, mais aussi  big bands\, et en alternant la guitare dactyle avec un jeu traditionnel ( mediator) tout aussi brillant…et la maitrise du banjo ! \nRemarqué à travers de prestigieuses collaborations (de J.J. Milteau à Maurane en passant par André Ceccarelli\, Jean Marie Ecay\, Romane ou une première partie de Toto !)\, Sylvestre a sorti plusieurs albums (Polycolor Jazz\, Round the blues\, Guitare attitudes\,…)\,  un DVD en solo\, ainsi qu’une méthode de référence sur la guitare dactyle et une video sur le funk. \n\nLes inscriptions pour jouer se prennent sur place le jour même à partir de 20h30. \n  \n Sur ces soirées\, leur mode d’emploi\, leur ambiance et leurs invités\, rendez-vous sur : \n– la page Facebook http://www.facebook.com/acousticbazar \n– le site www.acoustic-bazar.fr
URL:https://letempo17.com/event/acpoustic-bazar-de-sylvestre-planchais/
LOCATION:le tempo 17\, 18 rue brochant\, paris\, 75017\, France
CATEGORIES:Concert,Spectacle
ATTACH;FMTTYPE=image/jpeg:https://letempo17.com/wp-content/uploads/2025/09/sylvestre-planchais-1.jpg
END:VEVENT
END:VCALENDAR