BEGIN:VCALENDAR
VERSION:2.0
PRODID:-//Le Tempo 17 - ECPv5.9.0//NONSGML v1.0//EN
CALSCALE:GREGORIAN
METHOD:PUBLISH
X-WR-CALNAME:Le Tempo 17
X-ORIGINAL-URL:https://letempo17.com
X-WR-CALDESC:évènements pour Le Tempo 17
BEGIN:VTIMEZONE
TZID:Europe/Paris
BEGIN:DAYLIGHT
TZOFFSETFROM:+0100
TZOFFSETTO:+0200
TZNAME:CEST
DTSTART:20190331T010000
END:DAYLIGHT
BEGIN:STANDARD
TZOFFSETFROM:+0200
TZOFFSETTO:+0100
TZNAME:CET
DTSTART:20191027T010000
END:STANDARD
END:VTIMEZONE
BEGIN:VEVENT
DTSTART;TZID=Europe/Paris:20191203T203000
DTEND;TZID=Europe/Paris:20191203T230000
DTSTAMP:20260426T055731
CREATED:20191129T173933Z
LAST-MODIFIED:20191129T174005Z
UID:801-1575405000-1575414000@letempo17.com
SUMMARY:ACOUSTIC BAZAR de Marc LONCHAMPT.
DESCRIPTION:Depuis 27 ans\, l’Association ACOUSTIC BAZAR organise chaque mois sur Paris des scènes\nouvertes aux guitaristes et chanteur(euse)s-guitaristes. Outre le set de 30 minutes de « l’invité\ndu mois » – qui peut être une pointure de l’instrument (on a pu y croiser Jean-Félix Lalanne\,\nSolo Razaf\, Abaji\, Chris Lancry\, Manu Galvin\, Michel Haumont\, Jimi Drouillard …..) mais\naussi un jeune guitariste prometteur ou une formation guitaristiquement intéressante – la\nsoirée se déroule sous la forme d’une scène tournante ou chacun a la possibilité de jouer 2\ntitres\, tous styles confondus.\nCes rendez-vous sont donc également un espace de rencontres musicales et de découvertes\, où\nse côtoient des amateurs souvent très expérimentés\, des professionnels désirant rôder\nquelques titres avant un concert important\, des auteurs compositeurs injustement méconnus\,\nou parfois un candidat ayant le courage de tenter sa première scène.\nPour une soirée placée sous le signe du feeling guitaristique\, Acoustic Bazar accueillera Marc\nLONCHAMPT.\nAprès une formation de pianiste\, dès l’âge de cinq  ans\, puis de guitariste\, Marc\nLONCHAMPT entame une carrière précoce comme membre de groupe\, sideman\, puis très\nrapidement\, comme réalisateur-orchestrateur  studio. Après un premier album\, Marc réalise en\n1983 un album pour Joan Baez qui deviendra  disque d’or\, recevra un prix de l’académie\nCharles Cros et sera suivi d’une tournée aux U.S.A. avec Joan\, en tant que directeur musical\,\nguitariste\, et pianiste.\nDès lors\, de nombreux aller-retours l’amèneront à travailler dans des univers musicaux de\nplus en plus variés. Une rencontre à Memphis avec le fondateur de la firme STAX\, James\nSteward\, puis le début d’une longue collaboration avec divers éditeurs new-yorkais en tant\nque compositeur\, qui dure encore à ce jour.\nAprès avoir monté sa propre structure de production audio et video\, Marc travaille à\ndévelopper des projets personnels très variés : après plusieurs albums («Beautiful song»\,\n«Make it easy\, now»\, …) largement orientés «pop-rock»\, le DVD «Guitars improvisations»\nrenoue avec les influences jazz\, bresil\, blues\, voire classique. Les albums qui suivront («All\nthat jazz»\, «The real world»\, « Tribute to Pat Metheny…) seront  comme un retour à de\npremières amours\, de même que la rencontre avec Dominique Di Piazza (John McLaughlin)\nqui fera naître un DVD\, puis sera l’occasion d’un quatuor de Blues au Festival d’Arkhangelsk\n(Russie)\, ainsi que d’un nouvel album sorti récemment\, « Sunny days ».\nEnfin\, en tant qu&#39;artiste solo\, Marc participe à de nombreux festivals et salons\, Issoudun\,\nGuitares en Velay\, Musicora\, et y crée des rencontres-évènements\, comme les duos avec Jan\nAkkerman\, Gareth Pearson\, Bob Bonastre\, Eric Gombart ou Sylvestre Planchais. Ces\névénements l&#39;ont amené à réaliser le tout récent CD &quot;Guitars Only&quot;.\nPour cette soirée au Tempo\, Marc se produira à la guitare acoustique.\n \nQuant à ces soirées\, leur mode d’emploi\, leur ambiance et leurs invités\, rendez-vous sur :\n– youtube : http://www.youtube.com/watch?v=sODA0tP5TF8&amp;feature=youtu.be ;\n\n– le site www.acoustic-bazar.fr\n– et sur la page Facebook www.facebook.com/AcousticBazar
URL:https://letempo17.com/event/acoustic-bazar-de-marc-lonchampt/
CATEGORIES:Concert
END:VEVENT
END:VCALENDAR