BEGIN:VCALENDAR
VERSION:2.0
PRODID:-//Le Tempo 17 - ECPv5.9.0//NONSGML v1.0//EN
CALSCALE:GREGORIAN
METHOD:PUBLISH
X-WR-CALNAME:Le Tempo 17
X-ORIGINAL-URL:https://letempo17.com
X-WR-CALDESC:évènements pour Le Tempo 17
BEGIN:VTIMEZONE
TZID:Europe/Paris
BEGIN:DAYLIGHT
TZOFFSETFROM:+0100
TZOFFSETTO:+0200
TZNAME:CEST
DTSTART:20220327T010000
END:DAYLIGHT
BEGIN:STANDARD
TZOFFSETFROM:+0200
TZOFFSETTO:+0100
TZNAME:CET
DTSTART:20221030T010000
END:STANDARD
END:VTIMEZONE
BEGIN:VEVENT
DTSTART;TZID=Europe/Paris:20221108T210000
DTEND;TZID=Europe/Paris:20221108T230000
DTSTAMP:20260426T055626
CREATED:20221101T185810Z
LAST-MODIFIED:20221101T195934Z
UID:1097-1667941200-1667948400@letempo17.com
SUMMARY:ACOUSTIC BAZAR de ABAJI
DESCRIPTION:Le Tempo reçoit chaque mois une institution de la guitare parisienne : la scène ouverte ACOUSTIC BAZAR\, la plus ancienne de la capitale\, ouverte aux guitaristes et chanteur(euse)s-guitaristes. Outre le set de 30 minutes de « l’invité du mois » – qui peut être une pointure de l’instrument (on a pu y croiser Jean-Félix Lalanne\, Solo Razaf\, Abaji\, Manu Galvin\, Michel Haumont\, Jimi Drouillard …..) mais aussi un jeune guitariste prometteur ou une formation  guitaristiquement intéressante – la soirée se déroule sous la forme d’une scène tournante ou chacun a la possibilité de jouer 2 titres\, tous styles confondus. \n  \nCes rendez-vous sont donc également un espace de rencontres musicales et de découvertes\, où se côtoient des amateurs souvent très expérimentés\, des professionnels désirant rôder quelques titres avant un concert important\, des auteurs compositeurs… ou parfois un candidat ayant le courage de tenter sa première scène. \n  \nPour cette soirée\, l’équipe d’ACOUSTIC BAZAR est extrêmement heureuse de retrouver\, 10 ans après\, un incroyable musicien globe-trotter : ABAJI \n  \nNé au Liban d’origine arménienne\, venant d’une famille de musiciens de grande tradition\, ABAJI\, chanteur et multi-instrumentiste absolument fascinant\, dessine depuis quelques décennies une route musicale à part. Route pleine de risques\, de brefs équilibres et d’apaisements partagés\, créant des ponts entre Orient et Occident\, à travers le monde entier. \nS’accompagnant d’instruments insolites qu’il manie en virtuose\, tels une guitare sitar spécialement créée pour lui et qui\, à l’aide d’un archet\, se transforme en violon oriental\, il chante en cinq langues en jouant de sa voix veloutée\, profonde et rugueuse sur des musiques teintées de blues et de culture orientale. \nUne dizaine d’albums sont le fruit de sa passion des rencontres et son talent pour connecter les âmes. \nDans Blue Shaman\, le dernier-né\, il est parti frotter ses cordes vocales et instrumentales aux rythmiques et aux mélodies de l’accordéoniste écossais Donald Shaw\, co-fondateur du groupe Capercaillie et du flûtiste\, joueur de cornemuse\, Michael McGoldrick\, accompagnateur notamment de Mark Knopfler et Dire Straits. \nUne rencontre absolument unique au Tempo ! \n  \nDes protections individualisées des micros seront fournies pour tous les musiciens. \n  \n Sur ces soirées\, leur mode d’emploi\, leur ambiance et leurs invités\, rendez-vous sur : \n– la page Facebook http://www.facebook.com/acousticbazar \n– le site www.acoustic-bazar.fr
URL:https://letempo17.com/event/acoustic-bazar-de-abaji/
CATEGORIES:Concert
ATTACH;FMTTYPE=image/jpeg:https://letempo17.com/wp-content/uploads/2022/11/Jour2-Rire.jpeg
END:VEVENT
END:VCALENDAR