BEGIN:VCALENDAR
VERSION:2.0
PRODID:-//Le Tempo 17 - ECPv5.9.0//NONSGML v1.0//EN
CALSCALE:GREGORIAN
METHOD:PUBLISH
X-WR-CALNAME:Le Tempo 17
X-ORIGINAL-URL:https://letempo17.com
X-WR-CALDESC:évènements pour Le Tempo 17
BEGIN:VTIMEZONE
TZID:Europe/Paris
BEGIN:DAYLIGHT
TZOFFSETFROM:+0100
TZOFFSETTO:+0200
TZNAME:CEST
DTSTART:20260329T010000
END:DAYLIGHT
BEGIN:STANDARD
TZOFFSETFROM:+0200
TZOFFSETTO:+0100
TZNAME:CET
DTSTART:20261025T010000
END:STANDARD
END:VTIMEZONE
BEGIN:VEVENT
DTSTART;TZID=Europe/Paris:20260303T203000
DTEND;TZID=Europe/Paris:20260303T230000
DTSTAMP:20260426T015602
CREATED:20260221T180855Z
LAST-MODIFIED:20260221T180855Z
UID:1565-1772569800-1772578800@letempo17.com
SUMMARY:Acoustic bazar
DESCRIPTION:
URL:https://letempo17.com/event/acoustic-bazar-9/
LOCATION:le tempo 17\, 18 rue brochant\, paris\, 75017\, France
CATEGORIES:Concert,Spectacle
ATTACH;FMTTYPE=image/jpeg:https://letempo17.com/wp-content/uploads/2024/09/Tempo-17-OR-fond-Noir-scaled.jpg
END:VEVENT
END:VCALENDAR