BEGIN:VCALENDAR
VERSION:2.0
PRODID:-//Le Tempo 17 - ECPv5.9.0//NONSGML v1.0//EN
CALSCALE:GREGORIAN
METHOD:PUBLISH
X-WR-CALNAME:Le Tempo 17
X-ORIGINAL-URL:https://letempo17.com
X-WR-CALDESC:évènements pour Le Tempo 17
BEGIN:VTIMEZONE
TZID:Europe/Paris
BEGIN:DAYLIGHT
TZOFFSETFROM:+0100
TZOFFSETTO:+0200
TZNAME:CEST
DTSTART:20180325T010000
END:DAYLIGHT
BEGIN:STANDARD
TZOFFSETFROM:+0200
TZOFFSETTO:+0100
TZNAME:CET
DTSTART:20181028T010000
END:STANDARD
END:VTIMEZONE
BEGIN:VEVENT
DTSTART;TZID=Europe/Paris:20180403T200000
DTEND;TZID=Europe/Paris:20180403T230000
DTSTAMP:20260426T043222
CREATED:20180320T173952Z
LAST-MODIFIED:20180326T101738Z
UID:525-1522785600-1522796400@letempo17.com
SUMMARY:Acoustic bazar Tristan Desrues
DESCRIPTION:Depuis 25 ans\, l’Association ACOUSTIC BAZAR organise chaque mois sur Paris des scènes ouvertes aux guitaristes et chanteur(euse)s-guitaristes. Outre le set de 30 minutes de « l’invité du mois » – qui peut être une pointure de l’instrument (on a pu y croiser Jean-Félix Lalanne\, Solo Razaf\, Abaji\, Chris Lancry\, Manu Galvin\, Michel Haumont\, Jimi Drouillard …..) mais aussi un jeune guitariste prometteur ou une formation guitaristiquement intéressante – la soirée se déroule sous la forme d’une scène tournante ou chacun a la possibilité de jouer 2 titres\, tous styles confondus. \n  \nCes rendez-vous sont donc également un espace de rencontres musicales et de découvertes\, où se côtoient des amateurs souvent très expérimentés\, des professionnels désirant rôder quelques titres avant un concert important\, des auteurs compositeurs injustement méconnus\, ou parfois un candidat ayant le courage de tenter sa première scène. \n  \nPour cette soirée\, Acoustic Bazar est très heureuse de programmer un jeune guitariste\, fidèle de ses scènes ouvertes mensuelles et dont personne ne contestera qu’il a toute sa place comme «Invité du mois » : Tristan DESRUES. \n  \nTristan découvre la guitare à l’âge de 15 ans. Après avoir étudié la guitare classique\, il suit un cursus professionnel à l’école ATLA où il s’intéresse à la guitare brésilienne et au jazz en prenant des cours avec Antoine Tatich et Eric Gombart. \nIl se spécialise dans cette voie en poursuivant ses études à l’IMEP puis au CCR de Cergy-Pontoise tout en suivant l’enseignement de Valérie Duchateau et Pierre Cullaz. \nEn parallèle\, il se produit sur la scène parisienne (Baiser Salé\, Sunset) au sein de divers projets tournés vers la chanson française et la Bossa Nova comme « Les Lueurs de Lily » ou « Janeire » avec lequel il réalise un EP. \nEgalement passionné de pédagogie\, il enseigne depuis plusieurs années entre Paris et Pontoise dans plusieurs écoles de musique et centres d’animation (stages de guitare\, cours particuliers ou collectifs\, éveil musical…). \nFort des conseils de ses prestigieux professeurs\, Tristan a su développer un toucher\, un goût et une sensibilité remarquables\, s’exprimant aussi bien dans des arrangements que dans des compositions. En d’autres termes\, c’est un talent prometteur qu’il vous sera donné de découvrir ce soir. \nLa soirée débute à 21 heures\, et les inscriptions des participants se prennent à partir de 20h30 \n  \nVous trouverez tous les renseignements sur ces soirées\, leur mode d’emploi\, leur ambiance et leurs invités sur : \n  \n– Youtube : http://www.youtube.com/watch?v=sODA0tP5TF8&feature=youtu.be \n– le site www.acoustic-bazar.fr \n– et sur la page Facebook www.facebook.com/AcousticBazar
URL:https://letempo17.com/event/acoustic-bazar-3/
LOCATION:Le Tempo\, 18 rue Brochant\, Paris\, 75017\, France
CATEGORIES:Concert
END:VEVENT
END:VCALENDAR