BEGIN:VCALENDAR
VERSION:2.0
PRODID:-//Le Tempo 17 - ECPv5.9.0//NONSGML v1.0//EN
CALSCALE:GREGORIAN
METHOD:PUBLISH
X-WR-CALNAME:Le Tempo 17
X-ORIGINAL-URL:https://letempo17.com
X-WR-CALDESC:évènements pour Le Tempo 17
BEGIN:VTIMEZONE
TZID:Europe/Paris
BEGIN:DAYLIGHT
TZOFFSETFROM:+0100
TZOFFSETTO:+0200
TZNAME:CEST
DTSTART:20230326T010000
END:DAYLIGHT
BEGIN:STANDARD
TZOFFSETFROM:+0200
TZOFFSETTO:+0100
TZNAME:CET
DTSTART:20231029T010000
END:STANDARD
END:VTIMEZONE
BEGIN:VEVENT
DTSTART;TZID=Europe/Paris:20231107T210000
DTEND;TZID=Europe/Paris:20231107T230000
DTSTAMP:20260426T023919
CREATED:20231104T200137Z
LAST-MODIFIED:20231104T200137Z
UID:1195-1699390800-1699398000@letempo17.com
SUMMARY:AC Milan vs Paris Saint Germain
DESCRIPTION:Plongez dans l’excitation de la Ligue des champions avec la soirée retour du AC Milan contre Paris Saint Germain au Bar Le Tempo 17 ! Rejoignez-nous pour une expérience de visionnage inégalée\, alors que ces deux géants du football s’affrontent sur notre écran géant. Vibrez au rythme des buts et des arrêts spectaculaires tout en sirotant vos boissons préférées et en profitant de l’ambiance passionnée de notre bar. Avec des fans passionnés comme vous\, cette soirée promet d’être mémorable. Ne manquez pas l’occasion de vivre chaque moment de cette rencontre palpitante au Bar Le Tempo 17. Venez soutenir le PSG et partager l’excitation du football européen avec nous ! \nPensez a réserver vos places 
URL:https://letempo17.com/event/ac-milan-vs-paris-saint-germain/
LOCATION:le tempo 17\, 18 rue brochant\, paris\, 75017\, France
CATEGORIES:Match foot
ATTACH;FMTTYPE=image/png:https://letempo17.com/wp-content/uploads/2023/11/image.png
END:VEVENT
END:VCALENDAR