BEGIN:VCALENDAR
VERSION:2.0
PRODID:-//Le Tempo 17 - ECPv5.9.0//NONSGML v1.0//EN
CALSCALE:GREGORIAN
METHOD:PUBLISH
X-WR-CALNAME:Le Tempo 17
X-ORIGINAL-URL:https://letempo17.com
X-WR-CALDESC:évènements pour Le Tempo 17
BEGIN:VTIMEZONE
TZID:Europe/Paris
BEGIN:DAYLIGHT
TZOFFSETFROM:+0100
TZOFFSETTO:+0200
TZNAME:CEST
DTSTART:20190331T010000
END:DAYLIGHT
BEGIN:STANDARD
TZOFFSETFROM:+0200
TZOFFSETTO:+0100
TZNAME:CET
DTSTART:20191027T010000
END:STANDARD
END:VTIMEZONE
BEGIN:VEVENT
DTSTART;TZID=Europe/Paris:20191106T080000
DTEND;TZID=Europe/Paris:20191106T170000
DTSTAMP:20260425T231946
CREATED:20191025T132844Z
LAST-MODIFIED:20191025T132844Z
UID:779-1573027200-1573059600@letempo17.com
SUMMARY:Paris Saint Germain vs Bruges
DESCRIPTION:
URL:https://letempo17.com/event/paris-saint-germain-vs-bruges-2/
LOCATION:Le Tempo\, 18 rue Brochant\, Paris\, 75017\, France
CATEGORIES:Match foot
ATTACH;FMTTYPE=image/jpeg:https://letempo17.com/wp-content/uploads/2017/11/champions-league-2017.jpg
END:VEVENT
BEGIN:VEVENT
DTSTART;TZID=Europe/Paris:20191106T210000
DTEND;TZID=Europe/Paris:20191106T230000
DTSTAMP:20260425T231946
CREATED:20191009T210837Z
LAST-MODIFIED:20191009T212644Z
UID:756-1573074000-1573081200@letempo17.com
SUMMARY:Paris Saint Germain vs Bruges
DESCRIPTION:
URL:https://letempo17.com/event/paris-saint-germain-vs-bruges/
LOCATION:Le Tempo\, 18 rue Brochant\, Paris\, 75017\, France
CATEGORIES:Match foot
ATTACH;FMTTYPE=image/jpeg:https://letempo17.com/wp-content/uploads/2017/11/champions-league-2017.jpg
END:VEVENT
END:VCALENDAR